BEGIN:VCALENDAR
VERSION:2.0
PRODID:-//Meat Market Melbourne - ECPv4.9.4//NONSGML v1.0//EN
CALSCALE:GREGORIAN
METHOD:PUBLISH
X-WR-CALNAME:Meat Market Melbourne
X-ORIGINAL-URL:https://meatmarket.org.au
X-WR-CALDESC:Events for Meat Market Melbourne
BEGIN:VTIMEZONE
TZID:"UTC"
BEGIN:STANDARD
TZOFFSETFROM:+0000
TZOFFSETTO:+0000
TZNAME:UTC
DTSTART:20190101T000000
END:STANDARD
END:VTIMEZONE
BEGIN:VEVENT
DTSTART;TZID="UTC":20190620T193000
DTEND;TZID="UTC":20190620T204000
DTSTAMP:20200301T214728
CREATED:20190331T224850Z
LAST-MODIFIED:20200217T103757Z
UID:2279-1561059000-1561063200@meatmarket.org.au
SUMMARY:Wunderage by Circus Oz
DESCRIPTION:Circus Oz in collaboration with Company 2 present \nWUNDERAGE \nThe tightrope between who we are and who we might become. \nNo seats. No barriers. All wonder. \nDive into a mesmerising world of total circus as the astonishing spectacle of Wunderage unfolds around\, beside and above you. An emotional journey told through breathtaking physical feats\, heart-stirring live music and honest humour\, this world premiere collaboration invites you to dream. \nWe all walk the tightrope between who we are and who we might become\, and from this tension springs a bold new collaboration fusing the cheeky spark of Circus Oz and the poetic physicality of Company 2. Wonder is the impulse that propels our first step into the unknown\, and this unique promenade performance lets the audience immerse themselves in the show itself. \nMoving among immense blue boulders where tightwires are suspended in strikingly lit space\, the work emerges organically in all directions. Playful\, generous and peppered with mischievous wit\, the stories here will move and inspire. Wunderage explores the desire to be something you are not\, and along the way will take you to places you never dared to dream possible. \n20 – 30 June\, 2019 \nTicket prices\nNote – Promenade Performance* (No Seating) \n\nGeneral Admission – $49\nConcession – $39\nChild / Youth (Under 30) – $35\nGroups 8 + – $39\nFamily price – $130\n\nWunderage has not been specifically developed for families but everyone is welcome. This is an unseated performance that runs for 70 min with no interval\, where the audience is invited to move around as the performance unfolds all around them. For this reason we recommend this performance for kids aged 8+. \n*Promenade performance information\nWunderage is a promenade performance – this means it is non-seated\, immersive show. The audience will be encouraged to walk around the performance space for a full sensory experiece. Circus Oz is committed to delivering a good time for all. We understand that accessibility varies between individuals so if you require seating or have specific access requirements we welcome you to contact us at ticketing@circusoz.com.au. \n  \n
URL:https://meatmarket.org.au/event/wunderage/2019-06-20/
LOCATION:Pavilions – 3 (Blackwood)\, 3 Blackwood St\, North Melbourne\, VIC\, 3051\, Australia
CATEGORIES:Past Events
ATTACH;FMTTYPE=image/jpeg:https://meatmarket.org.au/wp-content/uploads/2019/03/WUNDERAGE_500x500.jpg
END:VEVENT
END:VCALENDAR