BEGIN:VCALENDAR
VERSION:2.0
PRODID:-//Meat Market Melbourne - ECPv4.9.4//NONSGML v1.0//EN
CALSCALE:GREGORIAN
METHOD:PUBLISH
X-WR-CALNAME:Meat Market Melbourne
X-ORIGINAL-URL:https://meatmarket.org.au
X-WR-CALDESC:Events for Meat Market Melbourne
BEGIN:VTIMEZONE
TZID:"UTC"
BEGIN:STANDARD
TZOFFSETFROM:+0000
TZOFFSETTO:+0000
TZNAME:UTC
DTSTART:20200101T000000
END:STANDARD
END:VTIMEZONE
BEGIN:VEVENT
DTSTART;TZID="UTC":20200522T193000
DTEND;TZID="UTC":20200522T203000
DTSTAMP:20200301T212157
CREATED:20200219T230519Z
LAST-MODIFIED:20200219T230519Z
UID:3414-1590175800-1590179400@meatmarket.org.au
SUMMARY:Legends (or the god killers)
DESCRIPTION:A heightened feminist fantasia exploring three generations of women as they wrestle with ‘gods’ beneath an arena. This piece is a wild\, fun\, and irreverent exploration of female myth-making and resilience. \nBeneath an arena\, Bag\, Moll and Runt are rehearsing for something highly physical\, dangerous even. Lessons will be learned\, generational steel will clash\, and this rehearsal may prove deadlier than what awaits them above. This play is a heightened exploration of the stories that unite and divide us as women and the gods we make and destroy along the way. \nHaving enjoyed glowing responses from its first staged reading in November 2019\, Dirty Pennies Theatre is thrilled to be staging a fully-fledged production of Legends or (the god killers) featuring a seasoned cast of brilliant women and a diverse team of talented creatives. \nIndependent theatre company ‘Dirty Pennies Theatre Project’ presents the Australian premiere of Legends (or the god killers) written by Award Winning writer Amy May Nunn and directed by VCA Masters graduate Kathryn Yates. This will be the company’s third production returning to the Meat Market after a sold-out Australian premiere of ‘Pramkicker’ in 2018. \n“They say her heart turned into a pit-bull and ate her body from the inside out.”- ‘Legends (or the god killers)’ \nDirty Pennies Theatre Project is a Melbourne based company dedicated first and foremost to the fostering and development of new work\, with a focus on female voices\, inclusivity and daring. \nDirected by: Kathryn Yates\nWritten by: Amy May Nunn\nProduced by: Danielle Goder\nSound design: Kevan Atkins \n
URL:https://meatmarket.org.au/event/legends-or-the-god-killers/2020-05-22/
LOCATION:Stables – Entry 2 (near corner)\, 2 Wreckyn St\, North Melbourne\, Victoria\, 3051\, Australia
CATEGORIES:Featured Events,Performing & Creative Arts
ATTACH;FMTTYPE=image/jpeg:https://meatmarket.org.au/wp-content/uploads/2020/02/LegendsPromo.jpg
END:VEVENT
END:VCALENDAR