BEGIN:VCALENDAR
VERSION:2.0
PRODID:-//Meat Market Melbourne - ECPv4.9.4//NONSGML v1.0//EN
CALSCALE:GREGORIAN
METHOD:PUBLISH
X-WR-CALNAME:Meat Market Melbourne
X-ORIGINAL-URL:https://meatmarket.org.au
X-WR-CALDESC:Events for Meat Market Melbourne
BEGIN:VTIMEZONE
TZID:"UTC"
BEGIN:STANDARD
TZOFFSETFROM:+0000
TZOFFSETTO:+0000
TZNAME:UTC
DTSTART:20200101T000000
END:STANDARD
END:VTIMEZONE
BEGIN:VEVENT
DTSTART;TZID="UTC":20200328T190000
DTEND;TZID="UTC":20200328T203000
DTSTAMP:20200301T211713
CREATED:20200207T065728Z
LAST-MODIFIED:20200220T001048Z
UID:3322-1585422000-1585427400@meatmarket.org.au
SUMMARY:In Her Eyes by Indefinite Dance Company
DESCRIPTION:In Her Eyes is a contemporary/lyrical dance piece bought to you by Indefinite Dance Company. Together this cast of youth dancers will explore their definition of perception and how they see the world. \nChoreographed by Casey Chellew and guest choreographer Freya List. \n
URL:https://meatmarket.org.au/event/in-her-eyes-by-indefinite-dance-company/2020-03-28/
LOCATION:Cobblestone – 2 (Blackwood)\, 3 Blackwood St\, North Melbourne\, VIC\, 3051\, Australia
CATEGORIES:Featured Events,Performing & Creative Arts
ATTACH;FMTTYPE=image/jpeg:https://meatmarket.org.au/wp-content/uploads/2020/02/In-Her-Eyes-1.jpg
END:VEVENT
END:VCALENDAR