BEGIN:VCALENDAR
VERSION:2.0
PRODID:-//Meat Market Melbourne - ECPv4.9.4//NONSGML v1.0//EN
CALSCALE:GREGORIAN
METHOD:PUBLISH
X-WR-CALNAME:Meat Market Melbourne
X-ORIGINAL-URL:https://meatmarket.org.au
X-WR-CALDESC:Events for Meat Market Melbourne
BEGIN:VTIMEZONE
TZID:"UTC"
BEGIN:STANDARD
TZOFFSETFROM:+0000
TZOFFSETTO:+0000
TZNAME:UTC
DTSTART:20190101T000000
END:STANDARD
END:VTIMEZONE
BEGIN:VEVENT
DTSTART;TZID="UTC":20190824T113000
DTEND;TZID="UTC":20190824T163000
DTSTAMP:20200301T215028
CREATED:20190614T050303Z
LAST-MODIFIED:20200217T104048Z
UID:2667-1566646200-1566664200@meatmarket.org.au
SUMMARY:Blobfish Beer Festival
DESCRIPTION:BLOBFISH – a beer festival celebrating all things sour\, funky and wild.\n\n\n\nJoin us for Australia’s first beer festival dedicated to these unique beers. Like the blobfish\, they emerge from the depths of the beer scene – intriguing\, slightly obscure\, somewhat unknown but always exciting. Melbourne’s iconic Meat Market will host 16 breweries from across Australia\, plus a handful from overseas. Over two sessions on Saturday 24 August\, it will include a special festival restaurant\, oyster bar\, premium cheese\, a bottleshop for unique takeaways\, live acoustic music\, natural wine\, and more. \nSATURDAY 24 AUGUST – MEAT MARKET NORTH MELBOURNE \n\nSession one: 11.30am-3pm\nSession two: 4.30pm-8pm\n\nThis is an event for you whether you’re already a big fan of beer or if you’re wanting to try something new. Learn about barrel programs\, chat to brewers\, eat delicious food\, listen to great music – alongside some of the best craft beer coming out of Australia. \nYour ticket gets you: \n\nentry to the festival\na premium branded festival glass for you to keep\n$20 of tokens to get tasting immediately\na food voucher for the festival restaurant\nfestival booklet\n\nPlease note: this is an 18+ event \nOur confirmed breweries for 2019 are: \n\nSite Fermentation Project\nWildflower\nOcho Beer\nBridge Road Brewers\nThe Barrel Farm by Blackman’s\nMolly Rose\nFathom by Green Beacon\nFuture Mountain\nSailors Grave\n3 Ravens\nDollar Bill Brewing\nBeer Farm\nVan Dieman\nGarage Project (NZ)\n8 Wired Brewing (NZ)\n\nTICKETING FAQs \nID\nAs there is alcohol at the event\, you must be over 18 to attend. Please bring valid identification on the day\, just in case. \nChildren\nUnfortunately Blobfish is not suitable for children. Very small babies are ok\, however there will be live music. \nDoor sales\nThese will be permitted pending availability \nRefunds\nThere are no refunds available\, however if you can no longer make it and you gave your tickets away\, you’d make someone’s day if not year\, I’m sure. \nReceiving your tickets\nYou will receive an automated email upon purchase. If you don’t receive it\, check your email spam folder. If that doesn’t work\, send us an email blobfishbeerfest@gmail.com \nDo I need to print my ticket? \nIt always helps\, but we will also be able to scan e-tickets from your phone. \nBehaviour\nWe want to create an amazing beer festival\, and inappropriate behaviour will not be tolerated. We reserve the right to remove anyone from the event who is behaving abusively or inappropriately. \nAny other questions? \nSend us an email at blobfishbeerfest@gmail.com \n\n\n\n
URL:https://meatmarket.org.au/event/blobfish-beer-festival/
LOCATION:Pavilions – 3 (Blackwood)\, 3 Blackwood St\, North Melbourne\, VIC\, 3051\, Australia
CATEGORIES:Markets, Fairs & Festivals,Past Events
ATTACH;FMTTYPE=image/png:https://meatmarket.org.au/wp-content/uploads/2019/06/59386770_431902134260850_2917085033745350656_n.png
END:VEVENT
END:VCALENDAR